BEGIN:VCALENDAR
VERSION:2.0
PRODID:-//hacksw/handcal//NONSGML v1.0//EN
BEGIN:VEVENT
DTSTAMP:20260507T150000Z
DTSTART:20260507T150000Z
DTEND:20260507T160000Z

SUMMARY:SchoolTime: 360 ALLSTARS
DESCRIPTION:BMX, basketball, breakdancing, acrobatics, drumming, and more! A phenomenal physical performance exploring all forms of rotation, 360 ALLSTARS connects the street with the elite to deliver a supercharged urban circus. Boasting a stellar international cast of World Champion and World Record-holding athletes and artists, 360 ALLSTARS is a spectacular fusion of the extraordinary artistry that emerges from street culture.  Catch the ALLSTARS in action at the Aronoff Center on their 10-year anniversary World Tour.Date: Thursday, May 7, 2026Time: 11:00 AMRecommended Grades: 3-12Length: 60 minutesCurriculum Connections: STEMPricing$7 per ticket with one complimentary ticket for every 15 purchasedTicket and Transportation Subsidies are available. Subsidy requests can be made on your SchoolTime Order Form.Sign Language InterpretationThe 11:00AM performance will have a sign language interpreter. Guests who need the assistance of the interpreter: please note this on your order form so we can seat you appropriately.RegistrationRegistration will open May 14, 2025. To request a field trip, please complete the online 2025-2026 SchoolTime Order Form by clicking the “Buy Tickets” button on this page.Order by phone is not accepted, but we are happy to answer your questions. For assistance in choosing the best shows for your class, please contact 513-977-4116 or education@cincinnatiarts.org. For more information about the SchoolTime program, please visit the pages below:
END:VEVENT
END:VCALENDAR