BEGIN:VCALENDAR
VERSION:2.0
PRODID:-//hacksw/handcal//NONSGML v1.0//EN
BEGIN:VEVENT
DTSTAMP:20260620T233000Z
DTSTART:20260620T233000Z
DTEND:20260621T013000Z

SUMMARY:Salome
DESCRIPTION:Music by Richard StraussLibretto by Hedwig LachmannSung in German with projected English translationsLUST. POWER. PROPHECY.Salome, the teenage princess of Judea, becomes dangerously fixated on the imprisoned prophet John the Baptist. When he rejects her advances, her desire curdles into obsession. At her stepfather Herod’s birthday feast, Salome dances and, at her maniacal mother’s behest, demands a gruesome reward. Set to Richard Strauss’s lush score, Salome is a fever dream of lust, power, and prophecy, where every glance is loaded and no desire is without cost.  
END:VEVENT
END:VCALENDAR