BEGIN:VCALENDAR
VERSION:2.0
PRODID:-//hacksw/handcal//NONSGML v1.0//EN
BEGIN:VEVENT
DTSTAMP:20260702T000000Z
DTSTART:20260702T000000Z
DTEND:20260702T020000Z

SUMMARY:Matthew White In Recital
DESCRIPTION:Following his 2025 starring role as Cavaradossi in Tosca, and this season’s Don José in Carmen, tenor Matthew White takes to the cabaret stage for his first solo recital ever (!). Expect an enthralling evening of music—from opera arias to Appalachian folk tunes—along with Cincinnati Opera’s Head of Music Staff, pianist James MaverickSTUDIO SESSIONSOpera stars shine in intimate cabaret-style performancesCincinnati Opera artists take to the cabaret stage in these intimate performances at Music Hall’s Wilks Studio. Each 90-minute performance includes musical selections that shine a spotlight on the amazing artistry and personal stories of these talented performers. Get ready for two remarkable nights of sound and splendor with our stars!
END:VEVENT
END:VCALENDAR