BEGIN:VCALENDAR
VERSION:2.0
PRODID:-//hacksw/handcal//NONSGML v1.0//EN
BEGIN:VEVENT
DTSTAMP:20260501T233000Z
DTSTART:20260501T233000Z
DTEND:20260502T023000Z

SUMMARY:Mutual Dance Theatre in Modern Mix '26
DESCRIPTION:Modern Mix &#39;26 (May 1-2, 2026) — WORLD PREMIERESThis tour de force is Cincinnati&#39;s best-kept secret. Mutual Dance Theatre&#39;s Modern Mix &#39;26 is a curated spectrum of connection and contrast, featuring four new dance works from guest choreographers with international credits, including: Joshua Ishmon (Chicago): voted "Best Choreographer" by Chicago Reader, listed as "Breakout Contemporary Dance Artist" by Newcity; Shane Ohmer (Philadelphia): an unbelievable career including Phantom of the Opera, Rock the Ballet, Pacific Northwest Ballet, Les Grands Ballet Canadiens de Montreal, River North, and Whim W&#39;Him, among others; and Nat Wilson (New York): formerly of Kibbutz Contemporary Dance, ZviDance, ate9, Cocodaco Dance Project, Visceral Dance, Volta Collective, and Ballet Austin, now with Yue Yin Dance Company.
END:VEVENT
END:VCALENDAR