BEGIN:VCALENDAR
VERSION:2.0
PRODID:-//hacksw/handcal//NONSGML v1.0//EN
BEGIN:VEVENT
DTSTAMP:20260425T223000Z
DTSTART:20260425T223000Z
DTEND:20260426T003000Z

SUMMARY:Dancing for the Stars 2026
DESCRIPTION:Join us for Cincinnati&#39;s most outrageous, fun and competitive fundraising event of the year! Inspired by the hit ABC-TV show Dancing with the Stars, Dancing for the Stars will feature six Cincinnati celebrities paired with some of the area&#39;s finest professional dancers in a competition program, where a Dance Champion AND a Fundraising Champion will be crowned. Every ticket sold will help support your dancer and benefit CAA&#39;s Arts and Education programs, plus our Overture Awards - the nation&#39;s largest locally-run high school arts scholarship competition. Join us in the Historic Music Hall Ballroom to cheer on your favorite Celebrity Dancers and support the arts in Cincinnati! Attire: Cocktail attire. Our theme this year is 1950s and guests are highly encouraged to dress or accessorize their outfits based on the theme. Presented by TriHealthMeet Our Dancers!            
END:VEVENT
END:VCALENDAR