BEGIN:VCALENDAR
VERSION:2.0
PRODID:-//hacksw/handcal//NONSGML v1.0//EN
BEGIN:VEVENT
DTSTAMP:20261115T003000Z
DTSTART:20261115T003000Z
DTEND:20261115T023000Z

SUMMARY:The SpongeBob Musical
DESCRIPTION:Based on the Nickelodeon animated television series SpongeBob SquarePants, The Spongebob Musical follows SpongeBob SquarePants’ attempts to avert a volcanic eruption that could potentially wipe out all life in Bikini Bottom. The musical has been called a "ginormous giggle of a show" that provides a good amount of "giddy, goofy fun" for all audiences.
END:VEVENT
END:VCALENDAR