BEGIN:VCALENDAR
VERSION:2.0
PRODID:-//hacksw/handcal//NONSGML v1.0//EN
BEGIN:VEVENT
DTSTAMP:20270320T233000Z
DTSTART:20270320T233000Z
DTEND:20270321T013000Z

SUMMARY:It's a Small World 
DESCRIPTION:Prepare to "step in time" to the music of the Sherman Brothers! The beloved songs of Mary Poppins, The Jungle Book, and many more come to life as we celebrate the whimsy of childhood, for the young and old alike.
END:VEVENT
END:VCALENDAR