BEGIN:VCALENDAR
VERSION:2.0
PRODID:-//hacksw/handcal//NONSGML v1.0//EN
BEGIN:VEVENT
DTSTAMP:20270515T233000Z
DTSTART:20270515T233000Z
DTEND:20270516T013000Z

SUMMARY:School of Rock
DESCRIPTION:Andrew Lloyd Webber’s award-winning smash hit musical School of Rock is based on the hilarious hit movie. It follows Dewey Finn, a failed, wannabe rock star who decides to earn a few extra bucks by posing as a substitute teacher at a prestigious prep school. There he turns a class of straight-A students into a guitar-shredding, bass-slapping, mind-blowing rock band – sensationally performed live by the production’s young actors every night with roof-raising energy!
END:VEVENT
END:VCALENDAR