BEGIN:VCALENDAR
VERSION:2.0
PRODID:-//hacksw/handcal//NONSGML v1.0//EN
BEGIN:VEVENT
DTSTAMP:20270131T003000Z
DTSTART:20270131T003000Z
DTEND:20270131T023000Z

SUMMARY:In Harmony 
DESCRIPTION:In Harmony is a musical journey where life and song blend seamlessly. This Studio Series event celebrates musical theatre favorites from every era, chosen to highlight how harmony is something we create together. After all, true harmony only emerges when voices unite. In Life. In Song. In Harmony. Experience the beauty of making music—and life—together.
END:VEVENT
END:VCALENDAR