BEGIN:VCALENDAR
VERSION:2.0
PRODID:-//hacksw/handcal//NONSGML v1.0//EN
BEGIN:VEVENT
DTSTAMP:20260905T190000Z
DTSTART:20260905T190000Z
DTEND:20260905T210000Z

SUMMARY:English Lit
DESCRIPTION:English Lit is an original musical comedy that takes audiences on a “CliffsNotes journey” through a vast selection of classic literary works by means of the Broadway musicals they inspired. Humor, drama, soaring ballads, and musical theatre gems will move you... from the page to the stage. Hold on tight; there will be a test at the end!! (Literally!)  
END:VEVENT
END:VCALENDAR